BEGIN:VCALENDAR
VERSION:2.0
PRODID:www.stappen-shoppen.nl
BEGIN:VEVENT
UID:stappen-shoppen.nl/entity/67f50ae2d0fbe328c4045c95
DTSTAMP:20260423T091326Z
ORGANIZER;CN=:MAILTO:
DTSTART:20260522T133000Z
DTEND:20260523T215500Z
URL:https://m-en.visitbaarle.com/ical/67f50ae2d0fbe328c4045c95
SUMMARY:Grand Prix Baarle – Het ultieme raceweekend voor jong en oud!
DESCRIPTION:Grand Prix Baarle – Het ultieme raceweekend voor jong en oud!
END:VEVENT
END:VCALENDAR

