BEGIN:VCALENDAR
VERSION:2.0
PRODID:www.stappen-shoppen.nl
BEGIN:VEVENT
UID:stappen-shoppen.nl/entity/69cb8e500d28d0b0eb0a5bc2
DTSTAMP:20260423T091152Z
ORGANIZER;CN=:MAILTO:info@cultuurcentrumbaarle.eu
DTSTART:20260516T220000Z
DTEND:20260611T220000Z
URL:https://m-en.visitbaarle.com/ical/69cb8e500d28d0b0eb0a5bc2
SUMMARY:Tentoonstelling Tom Laureyn
DESCRIPTION:Op zondag 17 mei openen we de tentoonstelling van Tom Laureyn
END:VEVENT
END:VCALENDAR

