BEGIN:VCALENDAR
VERSION:2.0
PRODID:www.stappen-shoppen.nl
BEGIN:VEVENT
UID:stappen-shoppen.nl/entity/69cbad187e38666c1f043e89
DTSTAMP:20260423T091321Z
ORGANIZER;CN=:MAILTO:info@cultuurcentrumbaarle.eu
DTSTART:20260411T220000Z
DTEND:20260502T220000Z
URL:https://m-en.visitbaarle.com/ical/69cbad187e38666c1f043e89
SUMMARY:Tentoonstelling Crea
DESCRIPTION:Werken van Crea - workshops en cursussen: pottenbakken\, aquarel en olieverf
END:VEVENT
END:VCALENDAR

